BEGIN:VCALENDAR
VERSION:2.0
PRODID:-//Town of Gate City, Virginia - ECPv6.15.20//NONSGML v1.0//EN
CALSCALE:GREGORIAN
METHOD:PUBLISH
X-WR-CALNAME:Town of Gate City, Virginia
X-ORIGINAL-URL:https://mygatecity.com
X-WR-CALDESC:Events for Town of Gate City, Virginia
REFRESH-INTERVAL;VALUE=DURATION:PT1H
X-Robots-Tag:noindex
X-PUBLISHED-TTL:PT1H
BEGIN:VTIMEZONE
TZID:America/New_York
BEGIN:DAYLIGHT
TZOFFSETFROM:-0500
TZOFFSETTO:-0400
TZNAME:EDT
DTSTART:20230312T070000
END:DAYLIGHT
BEGIN:STANDARD
TZOFFSETFROM:-0400
TZOFFSETTO:-0500
TZNAME:EST
DTSTART:20231105T060000
END:STANDARD
BEGIN:DAYLIGHT
TZOFFSETFROM:-0500
TZOFFSETTO:-0400
TZNAME:EDT
DTSTART:20240310T070000
END:DAYLIGHT
BEGIN:STANDARD
TZOFFSETFROM:-0400
TZOFFSETTO:-0500
TZNAME:EST
DTSTART:20241103T060000
END:STANDARD
BEGIN:DAYLIGHT
TZOFFSETFROM:-0500
TZOFFSETTO:-0400
TZNAME:EDT
DTSTART:20250309T070000
END:DAYLIGHT
BEGIN:STANDARD
TZOFFSETFROM:-0400
TZOFFSETTO:-0500
TZNAME:EST
DTSTART:20251102T060000
END:STANDARD
END:VTIMEZONE
BEGIN:VEVENT
DTSTART;TZID=America/New_York:20240921T080000
DTEND;TZID=America/New_York:20240921T170000
DTSTAMP:20260421T154308
CREATED:20240628T180100Z
LAST-MODIFIED:20240628T180128Z
UID:3116-1726905600-1726938000@mygatecity.com
SUMMARY:Harvest Moon Celebration
DESCRIPTION:The Harvest Moon Celebration consists of\nmultiple events happening in one day. The Harvest\nMoon Market features 30+ artisans\, makers\, small\nbusinesses\, and creative souls. We have a\ndemonstration tent set up where guests can view\nartisans showcasing their craft live. This event also\nfeatures a pumpkin contest\, music\, and food all\nday. We have plans to book additional on site\nactivities including the “farm experience.”
URL:https://mygatecity.com/event/harvest-moon-celebration/
LOCATION:VA
CATEGORIES:Community Events
ATTACH;FMTTYPE=image/jpeg:https://mygatecity.com/wp-content/uploads/2024/06/harvest-moon-celebration.jpg
END:VEVENT
END:VCALENDAR